BEGIN:VCALENDAR
VERSION:2.0
PRODID:-//Crestwood Village Co-op Four - ECPv6.13.2.1//NONSGML v1.0//EN
CALSCALE:GREGORIAN
METHOD:PUBLISH
X-WR-CALNAME:Crestwood Village Co-op Four
X-ORIGINAL-URL:https://crestwoodvillagefour.com
X-WR-CALDESC:Events for Crestwood Village Co-op Four
REFRESH-INTERVAL;VALUE=DURATION:PT1H
X-Robots-Tag:noindex
X-PUBLISHED-TTL:PT1H
BEGIN:VTIMEZONE
TZID:UTC
BEGIN:STANDARD
TZOFFSETFROM:+0000
TZOFFSETTO:+0000
TZNAME:UTC
DTSTART:20250101T000000
END:STANDARD
END:VTIMEZONE
BEGIN:VEVENT
DTSTART;TZID=UTC:20251211T093000
DTEND;TZID=UTC:20251211T143000
DTSTAMP:20260423T234429
CREATED:20251113T171720Z
LAST-MODIFIED:20251113T171720Z
UID:1982-1765445400-1765463400@crestwoodvillagefour.com
SUMMARY:SPECIAL BUS TRIP
DESCRIPTION:HISTORIC SMITHVILLE \nWHEN: THURSDAY\, DECEMBER 11TH 2025 \nWHERE: PICK UP & DROP OFF AT CLUBHOUSE 9:30AM-2:30PM
URL:https://crestwoodvillagefour.com/event/special-bus-trip/
CATEGORIES:General Events
END:VEVENT
BEGIN:VEVENT
DTSTART;TZID=UTC:20251212T123000
DTEND;TZID=UTC:20251212T123000
DTSTAMP:20260423T234429
CREATED:20251126T143630Z
LAST-MODIFIED:20251126T144016Z
UID:2007-1765542600-1765542600@crestwoodvillagefour.com
SUMMARY:MANCHESTER HIGH SCHOOL BAND
DESCRIPTION:WHO: MANCHESTER HIGH SCHOOL BAND \nWHEN: DECEMBER 12TH 2025 at 12:30PM \nWHERE: 15E MOCCASIN DR. \nFREE ADMISSION \nManchester High School Band_20251126092805
URL:https://crestwoodvillagefour.com/event/manchester-high-school-band/
CATEGORIES:General Events
END:VEVENT
BEGIN:VEVENT
DTSTART;TZID=UTC:20251213T080000
DTEND;TZID=UTC:20251213T100000
DTSTAMP:20260423T234429
CREATED:20250710T191743Z
LAST-MODIFIED:20250716T153523Z
UID:1838-1765612800-1765620000@crestwoodvillagefour.com
SUMMARY:Pancake Breakfast with Santa
DESCRIPTION:Saturday\, December 13\, 2025 \n8am-10am \nEnjoy pancakes\, sausage\, coffee or tea with Santa \n$5/pp \nTickets go on sale August 4th – Every Mon & Wed from 10am-12pm and Wed evenings 6pm-7pm \nIndependence Hall\, 15E Moccasin Drive\, Whiting\, NJ \n 
URL:https://crestwoodvillagefour.com/event/pancake-breakfast-with-santa/
LOCATION:Crestwood Village Four\, 15E Moccasin Drive\, Whiting\, 08759\, United States
CATEGORIES:General Events
END:VEVENT
END:VCALENDAR