BEGIN:VCALENDAR
VERSION:2.0
PRODID:-//Crestwood Village Co-op Four - ECPv6.13.2.1//NONSGML v1.0//EN
CALSCALE:GREGORIAN
METHOD:PUBLISH
X-ORIGINAL-URL:https://crestwoodvillagefour.com
X-WR-CALDESC:Events for Crestwood Village Co-op Four
REFRESH-INTERVAL;VALUE=DURATION:PT1H
X-Robots-Tag:noindex
X-PUBLISHED-TTL:PT1H
BEGIN:VTIMEZONE
TZID:UTC
BEGIN:STANDARD
TZOFFSETFROM:+0000
TZOFFSETTO:+0000
TZNAME:UTC
DTSTART:20250101T000000
END:STANDARD
END:VTIMEZONE
BEGIN:VEVENT
DTSTART;VALUE=DATE:20251106
DTEND;VALUE=DATE:20251107
DTSTAMP:20260424T014945
CREATED:20251010T132608Z
LAST-MODIFIED:20251010T132910Z
UID:1951-1762387200-1762473599@crestwoodvillagefour.com
SUMMARY:ELECTION IS CANCELLED
DESCRIPTION:
URL:https://crestwoodvillagefour.com/event/election-is-cancelled/
CATEGORIES:General Events
END:VEVENT
BEGIN:VEVENT
DTSTART;TZID=UTC:20251112T130000
DTEND;TZID=UTC:20251112T150000
DTSTAMP:20260424T014945
CREATED:20250929T152327Z
LAST-MODIFIED:20250929T152327Z
UID:1916-1762952400-1762959600@crestwoodvillagefour.com
SUMMARY:VETERAN'S DAY CEREMONY - WED. NOVEMBER 12\, 2025 @ 1PM
DESCRIPTION:VETERAN’S DAY CEREMONY – WEDNESDAY\, NOVEMBER 12\, 2024 @ 1PM. INDEPENDENCE HALL\, 15E MOCCASIN DRIVE\, WHITING\, NJ \nCome celebrate with us and say thank you to ALL our Veterans and also help celebrate the 250th Birthdays of the US Navy (10/13/1775) and US Marine Corps (11/10/1775) \nThis event is open to all residents \nANY Veteran who wants to submit a photo of themselves in uniform are welcome to submit to the Office no later than Nov 3\, 2025. \n 
URL:https://crestwoodvillagefour.com/event/veterans-day-ceremony-wed-november-12-2025-1pm/
LOCATION:Crestwood Village Four\, 15E Moccasin Drive\, Whiting\, 08759\, United States
CATEGORIES:General Events
END:VEVENT
BEGIN:VEVENT
DTSTART;TZID=UTC:20251124T190000
DTEND;TZID=UTC:20251124T220000
DTSTAMP:20260424T014945
CREATED:20250710T185442Z
LAST-MODIFIED:20250716T153715Z
UID:1835-1764010800-1764021600@crestwoodvillagefour.com
SUMMARY:Toms River Multigenerational Orchestra (TRMO)
DESCRIPTION:Monday\, November 24\, 2025 @ 7pm \nAdmission $5 \nIndependence Hall\, 15E Moccasin Drive\, Whiting\, NJ
URL:https://crestwoodvillagefour.com/event/toms-river-multigenerational-orchestra-trmo/
LOCATION:Crestwood Village Four\, 15E Moccasin Drive\, Whiting\, 08759\, United States
CATEGORIES:General Events
END:VEVENT
END:VCALENDAR