BEGIN:VCALENDAR
VERSION:2.0
PRODID:-//Crestwood Village Co-op Four - ECPv6.13.2.1//NONSGML v1.0//EN
CALSCALE:GREGORIAN
METHOD:PUBLISH
X-WR-CALNAME:Crestwood Village Co-op Four
X-ORIGINAL-URL:https://crestwoodvillagefour.com
X-WR-CALDESC:Events for Crestwood Village Co-op Four
REFRESH-INTERVAL;VALUE=DURATION:PT1H
X-Robots-Tag:noindex
X-PUBLISHED-TTL:PT1H
BEGIN:VTIMEZONE
TZID:UTC
BEGIN:STANDARD
TZOFFSETFROM:+0000
TZOFFSETTO:+0000
TZNAME:UTC
DTSTART:20260101T000000
END:STANDARD
END:VTIMEZONE
BEGIN:VEVENT
DTSTART;TZID=UTC:20260109T100000
DTEND;TZID=UTC:20260109T100000
DTSTAMP:20260423T235512
CREATED:20260105T205104Z
LAST-MODIFIED:20260105T205307Z
UID:2060-1767952800-1767952800@crestwoodvillagefour.com
SUMMARY:MEETING WITH JCP&L
DESCRIPTION:JCP&L Representatives will be available to speak with residents and will address the cause of the most recent power outage. \nWHEN: Friday\, January 9th\, 2026 \nTIME: 10:00AM \nWHERE: Crestwood Village 5 \n325 Schoolhouse Road \nWhiting\, NJ 08759 \nIf you have any questions\, please reach out to Judy Noonan at (732)657-8121 ext 3108 or (732) 995-6923 \nMeeting with JCP&L
URL:https://crestwoodvillagefour.com/event/meeting-with-jcpl/
CATEGORIES:General Events
END:VEVENT
BEGIN:VEVENT
DTSTART;TZID=UTC:20260122T083000
DTEND;TZID=UTC:20260122T133000
DTSTAMP:20260423T235512
CREATED:20251114T162527Z
LAST-MODIFIED:20251114T162527Z
UID:1987-1769070600-1769088600@crestwoodvillagefour.com
SUMMARY:CRESTWOOD VIILAGE FOUR RESOURCE FAIR
DESCRIPTION:Inclement weather date: 01/29/2026 \nJoin us for a Health and Resource Fair\, where you can connect with local health and resource vendors eager to share their expertise and services. \nOver 50 Local Vendors and Agencies \nFree To Go lunch \nFree chances to win Gift cards and baskets. \nIndependence Hall\, 15E Moccasin Drive\, Whiting\, NJ
URL:https://crestwoodvillagefour.com/event/crestwood-viilage-four-resource-fair/
LOCATION:Crestwood Village Four\, 15E Moccasin Drive\, Whiting\, 08759\, United States
CATEGORIES:General Events
END:VEVENT
BEGIN:VEVENT
DTSTART;TZID=UTC:20260224T130000
DTEND;TZID=UTC:20260224T150000
DTSTAMP:20260423T235512
CREATED:20260123T190001Z
LAST-MODIFIED:20260212T192511Z
UID:2113-1771938000-1771945200@crestwoodvillagefour.com
SUMMARY:GOLDEN AGE RADIO "SHOW"
DESCRIPTION:GOLDEN AGE OF RADIO “SHOW”\nGolden Age Of Radio featuring Burns & Allen Show\, Baby Snooks\, Damon Runyon & More \n When:  Tuesday\, February 24th \n Time: 1:00 p.m. – 3:00 p.m. \n Cost: Free of charge \nWhere: Independence Hall – 15E Moccasin Drive \nGOLDEN AGE FEB 24
URL:https://crestwoodvillagefour.com/event/golden-age-radio-show/
LOCATION:Crestwood Village Four\, 15E Moccasin Drive\, Whiting\, 08759\, United States
CATEGORIES:General Events
END:VEVENT
BEGIN:VEVENT
DTSTART;VALUE=DATE:20260403
DTEND;VALUE=DATE:20260404
DTSTAMP:20260423T235512
CREATED:20260327T141928Z
LAST-MODIFIED:20260327T142019Z
UID:2258-1775174400-1775260799@crestwoodvillagefour.com
SUMMARY:OFFICE/CLUBHOUSE CLOSED
DESCRIPTION:In observance of Good Friday (4/3/26)
URL:https://crestwoodvillagefour.com/event/office-clubhouse-closed/
END:VEVENT
BEGIN:VEVENT
DTSTART;TZID=UTC:20260409T180000
DTEND;TZID=UTC:20260409T190000
DTSTAMP:20260423T235512
CREATED:20260330T155911Z
LAST-MODIFIED:20260330T155911Z
UID:2260-1775757600-1775761200@crestwoodvillagefour.com
SUMMARY:Notice of Regular Membership Meeting by the Secretary of Crestwood Village IV.
DESCRIPTION:ARTICLE IV MEETINGS \nSection 1. Place of Meetings Membership meetings shall be held at Independence Hall or elsewhere as designated by the Board of Trustees. \nSection 2. Regular Meetings Regular membership meetings shall be held on the second Thursday of the months of April and October of each year. If a scheduled date be a legal holiday\, the meeting shall be held on the following day. \nAs per the by-laws\, Crestwood Village Co-Op Four\, Inc will hold a Membership meeting April 9\, 2026 at 6PM at the clubhouse\, 15 E Moccasin Drive.  If Membership fails to produce a quorum at that time\, the Meeting will be postponed to April 9\, 2026\, 6:30PM at the same location.
URL:https://crestwoodvillagefour.com/event/notice-of-regular-membership-meeting-by-the-secretary-of-crestwood-village-iv/
LOCATION:Crestwood Village Four\, 15E Moccasin Drive\, Whiting\, 08759\, United States
CATEGORIES:General Events,Meetings
END:VEVENT
BEGIN:VEVENT
DTSTART;TZID=UTC:20260423T100000
DTEND;TZID=UTC:20260423T130000
DTSTAMP:20260423T235512
CREATED:20260217T202813Z
LAST-MODIFIED:20260217T202813Z
UID:2172-1776938400-1776949200@crestwoodvillagefour.com
SUMMARY:HEALTH SCREENINGS
DESCRIPTION:Take charge of your health with the Ocean County Health Department!\n\nWe are bringing our mobile health services directly to Crestwood Village 4 to provide essential screenings at NO COST to residents.\n\n✅ What’s available?\n\nBlood Pressure checks\nCholesterol & Glucose levels\nA1C% (Diabetes screening)\nPersonalized Nutrition Education\n\n      Where: 15E Moccasin Drive \n       Date: April 23rd  \n       Time: 10:00 AM-1:00 PM \nDon’t miss this chance to get a quick check-up and professional health advice right in your neighborhood!\nQuestions? Reach out to Matt Holland\, MS\, RDN at 732-341-9700 ext. 7235 or email mholland@ochd.org.\n\nOCHD_HEALTH SCREENINGS_20260217130122
URL:https://crestwoodvillagefour.com/event/health-screenings/
LOCATION:Crestwood Village Four\, 15E Moccasin Drive\, Whiting\, 08759\, United States
CATEGORIES:General Events
END:VEVENT
BEGIN:VEVENT
DTSTART;TZID=UTC:20260430T110000
DTEND;TZID=UTC:20260430T110000
DTSTAMP:20260423T235512
CREATED:20260218T161902Z
LAST-MODIFIED:20260218T161918Z
UID:2177-1777546800-1777546800@crestwoodvillagefour.com
SUMMARY:BINGO & LUNCH
DESCRIPTION:Ambassador Adult Day Care Invites You! \nWhat: Bingo & Lunch \nWhere: Crestwood Village 4 \nDate & Time: April 30th at 11:00 AM \nRSVP IN PERSON AT 15E MOCCASIN DRIVE EVERY WED (1:00-3:00 PM) \nCALL (732)350-0230 or EMAIL Reception@crestwoodvillagefour.com Anytime \n  \nBINGO & LUNCH_20260218104207
URL:https://crestwoodvillagefour.com/event/bingo-lunch/
CATEGORIES:General Events
END:VEVENT
END:VCALENDAR