BEGIN:VCALENDAR
VERSION:2.0
PRODID:-//Crestwood Village Co-op Four - ECPv6.13.2.1//NONSGML v1.0//EN
CALSCALE:GREGORIAN
METHOD:PUBLISH
X-WR-CALNAME:Crestwood Village Co-op Four
X-ORIGINAL-URL:https://crestwoodvillagefour.com
X-WR-CALDESC:Events for Crestwood Village Co-op Four
REFRESH-INTERVAL;VALUE=DURATION:PT1H
X-Robots-Tag:noindex
X-PUBLISHED-TTL:PT1H
BEGIN:VTIMEZONE
TZID:UTC
BEGIN:STANDARD
TZOFFSETFROM:+0000
TZOFFSETTO:+0000
TZNAME:UTC
DTSTART:20250101T000000
END:STANDARD
END:VTIMEZONE
BEGIN:VEVENT
DTSTART;VALUE=DATE:20251021
DTEND;VALUE=DATE:20251022
DTSTAMP:20260423T233816
CREATED:20250604T155604Z
LAST-MODIFIED:20250604T155604Z
UID:1798-1761004800-1761091199@crestwoodvillagefour.com
SUMMARY:MANCHESTER TWP - LEAF & BRUSH PICK-UP
DESCRIPTION:MANCHESTER TWP LEAF & BRUSH PICK UP SCHEDULED FOR OCTOBER 21\, 2025.  \nCall Manchester Twp Dept of Public Works at 732-657-7121 ext.3300 \n 
URL:https://crestwoodvillagefour.com/event/manchester-twp-leaf-brush-pick-up/
LOCATION:Crestwood Village Four\, 15E Moccasin Drive\, Whiting\, 08759\, United States
CATEGORIES:Recycling
END:VEVENT
BEGIN:VEVENT
DTSTART;VALUE=DATE:20250805
DTEND;VALUE=DATE:20250806
DTSTAMP:20260423T233816
CREATED:20250604T154507Z
LAST-MODIFIED:20250604T155040Z
UID:1796-1754352000-1754438399@crestwoodvillagefour.com
SUMMARY:BULK PICK UP
DESCRIPTION:Bulk Pick-up dates for CV4. Should you have any questions\, contact Manchester Twp Department of Public Works 732-657-8121 ext. 330 \nAUGUST 5\, 2025 \nBulk pick-up items may be put out 1-day prior to pick-up and no later than 6:30 am the day of pick-up. Once your home has been passed\, there will be no returns for pick-ups.
URL:https://crestwoodvillagefour.com/event/bulk-pick-up/
LOCATION:Crestwood Village Four\, 15E Moccasin Drive\, Whiting\, 08759\, United States
CATEGORIES:Recycling
END:VEVENT
BEGIN:VEVENT
DTSTART;VALUE=DATE:20250718
DTEND;VALUE=DATE:20250719
DTSTAMP:20260423T233816
CREATED:20250701T110710Z
LAST-MODIFIED:20250701T110710Z
UID:1821-1752796800-1752883199@crestwoodvillagefour.com
SUMMARY:JULY RECYCLING
DESCRIPTION:
URL:https://crestwoodvillagefour.com/event/july-recycling-2/
CATEGORIES:Recycling
END:VEVENT
BEGIN:VEVENT
DTSTART;VALUE=DATE:20250705
DTEND;VALUE=DATE:20250706
DTSTAMP:20260423T233816
CREATED:20250701T110651Z
LAST-MODIFIED:20250701T110651Z
UID:1819-1751673600-1751759999@crestwoodvillagefour.com
SUMMARY:JULY RECYCLING
DESCRIPTION:
URL:https://crestwoodvillagefour.com/event/july-recycling/
CATEGORIES:Recycling
END:VEVENT
BEGIN:VEVENT
DTSTART;TZID=UTC:20250604T080000
DTEND;TZID=UTC:20250604T170000
DTSTAMP:20260423T233816
CREATED:20250604T153935Z
LAST-MODIFIED:20250604T155740Z
UID:1794-1749024000-1749056400@crestwoodvillagefour.com
SUMMARY:RECYCLING DATES
DESCRIPTION:The following are upcoming recycling dates for CV4 residents: \nJune 6&20 \nJuly 5&18 \nAugust 1\, 5 & 29 \nSeptember 12\, 26 \nOctober 10&24 \nNovember 7&21 \nDecember 5&19
URL:https://crestwoodvillagefour.com/event/recycling-dates/
CATEGORIES:Recycling
END:VEVENT
END:VCALENDAR