BEGIN:VCALENDAR
VERSION:2.0
PRODID:-//Crestwood Village Co-op Four - ECPv6.13.2.1//NONSGML v1.0//EN
CALSCALE:GREGORIAN
METHOD:PUBLISH
X-WR-CALNAME:Crestwood Village Co-op Four
X-ORIGINAL-URL:https://crestwoodvillagefour.com
X-WR-CALDESC:Events for Crestwood Village Co-op Four
REFRESH-INTERVAL;VALUE=DURATION:PT1H
X-Robots-Tag:noindex
X-PUBLISHED-TTL:PT1H
BEGIN:VTIMEZONE
TZID:UTC
BEGIN:STANDARD
TZOFFSETFROM:+0000
TZOFFSETTO:+0000
TZNAME:UTC
DTSTART:20250101T000000
END:STANDARD
END:VTIMEZONE
BEGIN:VEVENT
DTSTART;TZID=UTC:20251124T190000
DTEND;TZID=UTC:20251124T220000
DTSTAMP:20260424T073128
CREATED:20250710T185442Z
LAST-MODIFIED:20250716T153715Z
UID:1835-1764010800-1764021600@crestwoodvillagefour.com
SUMMARY:Toms River Multigenerational Orchestra (TRMO)
DESCRIPTION:Monday\, November 24\, 2025 @ 7pm \nAdmission $5 \nIndependence Hall\, 15E Moccasin Drive\, Whiting\, NJ
URL:https://crestwoodvillagefour.com/event/toms-river-multigenerational-orchestra-trmo/
LOCATION:Crestwood Village Four\, 15E Moccasin Drive\, Whiting\, 08759\, United States
CATEGORIES:General Events
END:VEVENT
END:VCALENDAR