BEGIN:VCALENDAR
VERSION:2.0
PRODID:-//Crestwood Village Co-op Four - ECPv6.13.2.1//NONSGML v1.0//EN
CALSCALE:GREGORIAN
METHOD:PUBLISH
X-ORIGINAL-URL:https://crestwoodvillagefour.com
X-WR-CALDESC:Events for Crestwood Village Co-op Four
REFRESH-INTERVAL;VALUE=DURATION:PT1H
X-Robots-Tag:noindex
X-PUBLISHED-TTL:PT1H
BEGIN:VTIMEZONE
TZID:UTC
BEGIN:STANDARD
TZOFFSETFROM:+0000
TZOFFSETTO:+0000
TZNAME:UTC
DTSTART:20260101T000000
END:STANDARD
END:VTIMEZONE
BEGIN:VEVENT
DTSTART;VALUE=DATE:20260403
DTEND;VALUE=DATE:20260404
DTSTAMP:20260423T181228
CREATED:20260327T141928Z
LAST-MODIFIED:20260327T142019Z
UID:2258-1775174400-1775260799@crestwoodvillagefour.com
SUMMARY:OFFICE/CLUBHOUSE CLOSED
DESCRIPTION:In observance of Good Friday (4/3/26)
URL:https://crestwoodvillagefour.com/event/office-clubhouse-closed/
END:VEVENT
END:VCALENDAR