BEGIN:VCALENDAR
VERSION:2.0
PRODID:-//Crestwood Village Co-op Four - ECPv6.13.2.1//NONSGML v1.0//EN
CALSCALE:GREGORIAN
METHOD:PUBLISH
X-WR-CALNAME:Crestwood Village Co-op Four
X-ORIGINAL-URL:https://crestwoodvillagefour.com
X-WR-CALDESC:Events for Crestwood Village Co-op Four
REFRESH-INTERVAL;VALUE=DURATION:PT1H
X-Robots-Tag:noindex
X-PUBLISHED-TTL:PT1H
BEGIN:VTIMEZONE
TZID:UTC
BEGIN:STANDARD
TZOFFSETFROM:+0000
TZOFFSETTO:+0000
TZNAME:UTC
DTSTART:20250101T000000
END:STANDARD
END:VTIMEZONE
BEGIN:VEVENT
DTSTART;TZID=UTC:20251018T180000
DTEND;TZID=UTC:20251018T220000
DTSTAMP:20260424T054158
CREATED:20250710T185323Z
LAST-MODIFIED:20250710T185323Z
UID:1833-1760810400-1760824800@crestwoodvillagefour.com
SUMMARY:Oktoberfest Dance
DESCRIPTION:$15/pp $18 at door- 6pm – 10pm tickets on sale Mon & Wed 10am-12pm Wed evenings 6pm-7pm
URL:https://crestwoodvillagefour.com/event/oktoberfest-dance/
LOCATION:Crestwood Village Four\, 15E Moccasin Drive\, Whiting\, 08759\, United States
CATEGORIES:General Events
END:VEVENT
END:VCALENDAR