BEGIN:VCALENDAR
VERSION:2.0
PRODID:-//Crestwood Village Co-op Four - ECPv6.13.2.1//NONSGML v1.0//EN
CALSCALE:GREGORIAN
METHOD:PUBLISH
X-WR-CALNAME:Crestwood Village Co-op Four
X-ORIGINAL-URL:https://crestwoodvillagefour.com
X-WR-CALDESC:Events for Crestwood Village Co-op Four
REFRESH-INTERVAL;VALUE=DURATION:PT1H
X-Robots-Tag:noindex
X-PUBLISHED-TTL:PT1H
BEGIN:VTIMEZONE
TZID:UTC
BEGIN:STANDARD
TZOFFSETFROM:+0000
TZOFFSETTO:+0000
TZNAME:UTC
DTSTART:20250101T000000
END:STANDARD
END:VTIMEZONE
BEGIN:VEVENT
DTSTART;TZID=UTC:20250626T170000
DTEND;TZID=UTC:20250626T193000
DTSTAMP:20260424T121839
CREATED:20250604T160309Z
LAST-MODIFIED:20250604T160309Z
UID:1800-1750957200-1750966200@crestwoodvillagefour.com
SUMMARY:TASTEFULLY BRITISH FISH N' CHIPS (OR CHICKEN N' CHIPS)
DESCRIPTION:THURSDAY\, JUNE 26TH 5:00 P.M. TO 7:30 P.M.\nGet ready for a delicious evening! Tastefully British is bringing their popular fish and chips and chicken fingers and chips (French fries) to Crestwood Village 4 on Thursday\, June 26th\, 5:00 p.m. to 7:30 p.m. at Independence Hall.\nFor just $10 per person (sorry NO seconds or orders/tickets at the door)\, you can savor the taste of perfectly battered and fried fish served with golden\, chunky chips. If fish isn’t your preference\, they’ll also be offering the equally satisfying option of classic chicken fingers and chips.\nThis is a fantastic opportunity to enjoy a tasty meal without the fuss of cooking. Be sure to purchase your tickets in advance to secure your spot! Don’t miss out on this chance to treat yourself to a delightful dinner at Crestwood Village 4.\nTICKETS GO ON SALE WEDNESDAY\, MAY 21st AND CONTINUE:\nMONDAYS: 10AM-12PM OR 5PM-7PM\nWEDNESDAYS: 10AM – 2PM\n*Must indicate fish or chicken at time of purchase. \n*No refunds or cancellations \n*Rain or Shine
URL:https://crestwoodvillagefour.com/event/tastefully-british-fish-n-chips-or-chicken-n-chips/
LOCATION:Crestwood Village Four\, 15E Moccasin Drive\, Whiting\, 08759\, United States
CATEGORIES:General Events
END:VEVENT
END:VCALENDAR