BEGIN:VCALENDAR
VERSION:2.0
PRODID:-//Crestwood Village Co-op Four - ECPv6.13.2.1//NONSGML v1.0//EN
CALSCALE:GREGORIAN
METHOD:PUBLISH
X-ORIGINAL-URL:https://crestwoodvillagefour.com
X-WR-CALDESC:Events for Crestwood Village Co-op Four
REFRESH-INTERVAL;VALUE=DURATION:PT1H
X-Robots-Tag:noindex
X-PUBLISHED-TTL:PT1H
BEGIN:VTIMEZONE
TZID:UTC
BEGIN:STANDARD
TZOFFSETFROM:+0000
TZOFFSETTO:+0000
TZNAME:UTC
DTSTART:20250101T000000
END:STANDARD
END:VTIMEZONE
BEGIN:VEVENT
DTSTART;TZID=UTC:20250529T100000
DTEND;TZID=UTC:20250604T120000
DTSTAMP:20260424T121920
CREATED:20250604T160636Z
LAST-MODIFIED:20250604T160636Z
UID:1802-1748512800-1749038400@crestwoodvillagefour.com
SUMMARY:HELPING HANDS FOOD PANTRY HAS MOVED TO A NEW DAY
DESCRIPTION:Beginning May 29th the HELPING HANDS FOOD PANTRY will be operating: Thursdays from 10AM – 12PM. 
URL:https://crestwoodvillagefour.com/event/helping-hands-food-pantry-has-moved-to-a-new-day/
LOCATION:Crestwood Village Four\, 15E Moccasin Drive\, Whiting\, 08759\, United States
CATEGORIES:General Events
END:VEVENT
BEGIN:VEVENT
DTSTART;TZID=UTC:20250604T080000
DTEND;TZID=UTC:20250604T170000
DTSTAMP:20260424T121920
CREATED:20250604T153935Z
LAST-MODIFIED:20250604T155740Z
UID:1794-1749024000-1749056400@crestwoodvillagefour.com
SUMMARY:RECYCLING DATES
DESCRIPTION:The following are upcoming recycling dates for CV4 residents: \nJune 6&20 \nJuly 5&18 \nAugust 1\, 5 & 29 \nSeptember 12\, 26 \nOctober 10&24 \nNovember 7&21 \nDecember 5&19
URL:https://crestwoodvillagefour.com/event/recycling-dates/
CATEGORIES:Recycling
END:VEVENT
END:VCALENDAR